BEGIN:VCALENDAR
VERSION:2.0
PRODID:-//Ville de Mios - ECPv5.6.0//NONSGML v1.0//EN
CALSCALE:GREGORIAN
METHOD:PUBLISH
X-WR-CALNAME:Ville de Mios
X-ORIGINAL-URL:https://www.villemios.fr
X-WR-CALDESC:évènements pour Ville de Mios
BEGIN:VTIMEZONE
TZID:Europe/Paris
BEGIN:DAYLIGHT
TZOFFSETFROM:+0100
TZOFFSETTO:+0200
TZNAME:CEST
DTSTART:20260329T010000
END:DAYLIGHT
BEGIN:STANDARD
TZOFFSETFROM:+0200
TZOFFSETTO:+0100
TZNAME:CET
DTSTART:20261025T010000
END:STANDARD
END:VTIMEZONE
BEGIN:VEVENT
DTSTART;TZID=Europe/Paris:20260503T080000
DTEND;TZID=Europe/Paris:20260503T180000
DTSTAMP:20260424T154942
CREATED:20260423T154609Z
LAST-MODIFIED:20260423T154609Z
UID:88013-1777795200-1777831200@www.villemios.fr
SUMMARY:30ème édition de la Foire à la Brocante et vide-greniers
DESCRIPTION:📍 La Foire à la Brocante et vide-greniers du Comité des fêtes de Lacanau de Mios fête ses 30 ans cette année ! 🎉🎂\n\n\nVenez célébrer cette date anniversaire\, un beau programme vous attend sur place !\n\n\n👉 de nombreux stands pour chiner toute la journée\n\n\n👉 des manèges\n\n\n👉 un espace buvette et restauration\n\n\n👉 une tombola\n\n\n👉 une banda pour une animer cette belle journée ! \n\n\n \n\n\n📅 QUAND ? LE DIMANCHE 3 MAI \n\n\n🕑 De 8h à 18h autour de la place de l’Eglise.\n\n\n \n\n\n 👉 Vous souhaitez exposer ? Renseignez-vous vite au 06 77 20 75 77\n\n\n\n\n\n\nN’hésitez pas à faire un tour à la Salle des Fêtes de Lacanau de Mios\, La Palette Miossaise y exposera durant la journée.\n \n\n\n \n\nVous souhaitez exposer ?\n\nInscrivez-vous vite sur comitedesfetes.ldm@gmail.com\nRenseignements au 06 77 20 75 77
URL:https://www.villemios.fr/evenement/30eme-edition-de-la-foire-a-la-brocante-et-vide-greniers/
LOCATION:Place de l’Eglise Lacanau de Mios
CATEGORIES:Association
ATTACH;FMTTYPE=image/jpeg:https://www.villemios.fr/wp-content/uploads/2025/04/vide-grenier-030526-web.jpg
END:VEVENT
END:VCALENDAR