BEGIN:VCALENDAR
VERSION:2.0
PRODID:-//Ville de Mios - ECPv5.6.0//NONSGML v1.0//EN
CALSCALE:GREGORIAN
METHOD:PUBLISH
X-WR-CALNAME:Ville de Mios
X-ORIGINAL-URL:https://www.villemios.fr
X-WR-CALDESC:évènements pour Ville de Mios
BEGIN:VTIMEZONE
TZID:Europe/Paris
BEGIN:DAYLIGHT
TZOFFSETFROM:+0100
TZOFFSETTO:+0200
TZNAME:CEST
DTSTART:20260329T010000
END:DAYLIGHT
BEGIN:STANDARD
TZOFFSETFROM:+0200
TZOFFSETTO:+0100
TZNAME:CET
DTSTART:20261025T010000
END:STANDARD
END:VTIMEZONE
BEGIN:VEVENT
DTSTART;TZID=Europe/Paris:20260426T150000
DTEND;TZID=Europe/Paris:20260426T233000
DTSTAMP:20260420T174935
CREATED:20260420T122046Z
LAST-MODIFIED:20260420T122046Z
UID:87988-1777215600-1777246200@www.villemios.fr
SUMMARY:Pousse Café Arts Créatifs\, Jeux et apéro
DESCRIPTION:Dimanche 26 avril\, à partir de 15 h\, venez passer un moment convivial au Milan Noir !\nAmateur d’arts créatifs\, vous retrouverez nos activités stars : crochet\, pâte auto-durcissante… et pour la première fois un atelier bien être créatif. Seule votre inspiration sera nécessaire et où vous repartirez avec une création unique et qui vous ressemble ! ✂\nAucun niveau requis\, ateliers ouverts aux enfants. Participation libre pour contribuer à l’achat du matériel. \n🎲 Amateur de jeux de société\, de cartes ou de stratégies\, vous trouverez de très nombreux jeux pour tous les goûts\, tous les niveaux et tous les âges. L’occasion de découvrir de nouveaux jeux ou de ne pas se lasser des plus classiques\, mais n’hésitez pas aussi à amener votre jeu préféré pour le faire découvrir. Juste envie de passer\, de goûter et papoter\, vous serez le bienvenu ! 🎯 \n🍽️ Vous avez donné un coup de main cette année au bar\, à la restauration \, vous avez animé un atelier ou bien vous avez envie de participer en tant que bénévole à l’aventure d’ici la fin de la saison ? L’équipe du Pousse Café vous donne rendez vous à 18h30 pour l’APÉRO DES BENEVOLES\, offert par le café associatif au Milan Noir. \n🔹 Ouvert aux adhérents (adhésion possible sur place : 5 €/an ou 1 € pour la soirée). \n\n\n📩 Plus d’infos :\n📧 contact@poussecafemios.fr\n🌐 www.poussecafemios.fr\n📱 Instagram & Facebook : @poussecafemios
URL:https://www.villemios.fr/evenement/pousse-cafe-arts-creatifs-jeux-et-apero/
LOCATION:Milan Noir
CATEGORIES:Association
ATTACH;FMTTYPE=image/png:https://www.villemios.fr/wp-content/uploads/2026/03/Arts-créatifs-et-jeux-2604-.png
END:VEVENT
END:VCALENDAR