BEGIN:VCALENDAR
VERSION:2.0
PRODID:-//Ville de Mios - ECPv5.6.0//NONSGML v1.0//EN
CALSCALE:GREGORIAN
METHOD:PUBLISH
X-WR-CALNAME:Ville de Mios
X-ORIGINAL-URL:https://www.villemios.fr
X-WR-CALDESC:évènements pour Ville de Mios
BEGIN:VTIMEZONE
TZID:Europe/Paris
BEGIN:DAYLIGHT
TZOFFSETFROM:+0100
TZOFFSETTO:+0200
TZNAME:CEST
DTSTART:20260329T010000
END:DAYLIGHT
BEGIN:STANDARD
TZOFFSETFROM:+0200
TZOFFSETTO:+0100
TZNAME:CET
DTSTART:20261025T010000
END:STANDARD
END:VTIMEZONE
BEGIN:VEVENT
DTSTART;TZID=Europe/Paris:20260504T183000
DTEND;TZID=Europe/Paris:20260504T210000
DTSTAMP:20260422T155739
CREATED:20260421T155731Z
LAST-MODIFIED:20260421T155732Z
UID:88002-1777919400-1777928400@www.villemios.fr
SUMMARY:Soirée d'information juridique - Petite Enfance
DESCRIPTION:Le Relais Petite Enfance organise une soirée information juridique pour les professionnels et parents-employeurs\, de 18h30 à 21h en Salle des convivialité du Complexe Sportif\, Entrée 1.\n\n\n\nCette réunion portera sur la fin du contrat de travail (préavis\, solde des congés\, indemnités\, documents…) de l’assistante maternelle et sera animée par une juriste spécialisée. \n\n\n\n Sur inscription auprès du Relais Petite Enfance : relais-petite-enfance@villemios.fr / 06.85.79.85.17
URL:https://www.villemios.fr/evenement/soiree-dinformation-juridique-petite-enfance/
LOCATION:Salle de convivialité Complexe Sportif Entrée 1
ATTACH;FMTTYPE=image/jpeg:https://www.villemios.fr/wp-content/uploads/2024/06/Invitation-soirée-fin-de-contrat-Ass-Mat-26_page-0001.jpg
END:VEVENT
END:VCALENDAR